BEGIN:VCALENDAR
VERSION:2.0
PRODID:-//Take Stock in Children - Sarasota - ECPv6.6.4.2//NONSGML v1.0//EN
CALSCALE:GREGORIAN
METHOD:PUBLISH
X-ORIGINAL-URL:https://takestocksarasota.org
X-WR-CALDESC:Events for Take Stock in Children - Sarasota
REFRESH-INTERVAL;VALUE=DURATION:PT1H
X-Robots-Tag:noindex
X-PUBLISHED-TTL:PT1H
BEGIN:VTIMEZONE
TZID:America/Halifax
BEGIN:DAYLIGHT
TZOFFSETFROM:-0400
TZOFFSETTO:-0300
TZNAME:ADT
DTSTART:20260308T060000
END:DAYLIGHT
BEGIN:STANDARD
TZOFFSETFROM:-0300
TZOFFSETTO:-0400
TZNAME:AST
DTSTART:20261101T050000
END:STANDARD
END:VTIMEZONE
BEGIN:VEVENT
DTSTART;TZID=America/Halifax:20260211T183000
DTEND;TZID=America/Halifax:20260211T193000
DTSTAMP:20260423T062131
CREATED:20240115T152058Z
LAST-MODIFIED:20250814T142702Z
UID:2651-1770834600-1770838200@takestocksarasota.org
SUMMARY:Budgeting for College - SENIOR MEETING
DESCRIPTION:Learn tips and best practices for managing the different costs that come with College attendance. \nVirtual meeting – Check your email for link or contact your College Success
URL:https://takestocksarasota.org/event/budgeting-for-college-senior-meeting-2-28-2024/
ATTACH;FMTTYPE=image/png:https://takestocksarasota.org/wp-content/uploads/2022/09/Budget.png
END:VEVENT
END:VCALENDAR